BEGIN:VCALENDAR
VERSION:2.0
PRODID:-//Library Market//iCal Export//EN
BEGIN:VEVENT
SUMMARY:Aromatherapy Jars
UID:27589
DTSTAMP:20260423T041900Z
DTSTART:20260523T203000Z
DTEND:20260523T213000Z
LOCATION:Camas Public Library, 625 NE 4th Ave, Camas, WA 98607, United Sta
 tes
ROOM: Eva Santee
DESCRIPTION:Celebrate Mental Health Awareness Month this May with a calmin
 g, hands-on activity. Join us to create your own aromatherapy jar using so
 othing scents designed to help reduce stress and promote relaxation. All m
 aterials will be provided - just bring yourself and take home a little mom
 ent of calm.
URL:https://camaspl.librarycalendar.com/event/aromatherapy-jars-27589
END:VEVENT
END:VCALENDAR
