BEGIN:VCALENDAR
VERSION:2.0
PRODID:-//Library Market//iCal Export//EN
BEGIN:VEVENT
SUMMARY:Tiny Art Kit Pick-Up
UID:28016
DTSTAMP:20260422T111400Z
DTSTART:20260526T070000Z
DTEND:20260613T070000Z
LOCATION:Camas Public Library, 625 NE 4th Ave, Camas, WA 98607, United Sta
 tes
ROOM: Tiny Art Kit Pick-Up
DESCRIPTION:The Tiny Art Show is back! Display your artistic talents in ou
 r Tiny Art Show that will run during the month of July in our Crystal Corr
 idor. Register to receive a mini art kit and create your masterpiece. When
  completed, return it to the Library to be part of the show! Kits will be 
 available to pick up starting Tuesday, May 26 at 10 a.m.Kits are limited t
 o 2 per family.
URL:https://camaspl.librarycalendar.com/event/tiny-art-kit-pick-28016
END:VEVENT
END:VCALENDAR
