BEGIN:VCALENDAR
VERSION:2.0
PRODID:-//Library Market//iCal Export//EN
BEGIN:VEVENT
SUMMARY:Reading Dragons Coloring Contest
UID:29169
DTSTAMP:20260425T115300Z
DTSTART:20260501T070000Z
DTEND:20260516T070000Z
LOCATION:Camas Public Library, 625 NE 4th Ave, Camas, WA 98607, United Sta
 tes
ROOM: Reading Dragons Coloring Contest
DESCRIPTION:Unleash your imagination and bring a dragon to life! Join our 
 Reading Dragons Coloring Contest, where creativity takes flight. Pick up a
  coloring sheet at the Library or print one from home, then design your ve
 ry own unique dragon character. Will it be fierce and fiery, or friendly a
 nd book-loving? The choice is yours!Entry forms can be picked up at the Li
 brary or printed from home (see attachments to the right or click here).Ru
 les:Contest is open to all ages.Only 1 submission per person.Coloring shee
 t must be submitted by Saturday, May 16 at 6 p.m. - no late entries will b
 e accepted.Your information must be on the entry form.Artwork must be your
  original creation.
URL:https://camaspl.librarycalendar.com/event/reading-dragons-coloring-con
 test-29169
END:VEVENT
END:VCALENDAR
