BEGIN:VCALENDAR
VERSION:2.0
PRODID:-//Library Market//iCal Export//EN
BEGIN:VEVENT
SUMMARY:Summer Reading Kickoff
UID:29246
DTSTAMP:20260425T115300Z
DTSTART:20260613T170000Z
DTEND:20260613T190000Z
LOCATION:Camas Public Library, 625 NE 4th Ave, Camas, WA 98607, United Sta
 tes
ROOM: Teen Room
DESCRIPTION:Celebrate the start of our Summer Reading Program! Pick up you
 r gameboard to track your reading and some new books to get you started. W
 e&#039;ll have stampers for the first 200 kids and the first 50 teens and 
 adults who take a gameboard. 
URL:https://camaspl.librarycalendar.com/event/summer-reading-kickoff-29246
END:VEVENT
END:VCALENDAR
